BEGIN:VCALENDAR
VERSION:2.0
PRODID:-//Pictures London//Cinema Listings//EN
CALSCALE:GREGORIAN
METHOD:PUBLISH
X-WR-CALNAME:Pictures London Cinema
BEGIN:VEVENT
UID:0a6e6974-00b6-4ce3-8f16-6630f9e49da4@pictures.london
DTSTART:20260422T160000Z
DTEND:20260422T180700Z
SUMMARY:Michael (2026) at Everyman Muswell Hill
DESCRIPTION:Michael (2026)\nat Everyman Muswell Hill\nBook: https://purchase.everymancinema.com/launch/ticketing/34486639-238b-585b-af9a-de81aa83f199\nvia Pictures (pictures.london)
LOCATION:Everyman Muswell Hill\, Fortis Green Road\, Muswell Hill\, N10 3TD
URL:https://purchase.everymancinema.com/launch/ticketing/34486639-238b-585b-af9a-de81aa83f199
STATUS:CONFIRMED
END:VEVENT
END:VCALENDAR