BEGIN:VCALENDAR
VERSION:2.0
PRODID:-//Pictures London//Cinema Listings//EN
CALSCALE:GREGORIAN
METHOD:PUBLISH
X-WR-CALNAME:Pictures London Cinema
BEGIN:VEVENT
UID:0a20723f-dc2a-4c87-9429-7dd503bd1a46@pictures.london
DTSTART:20260501T163000Z
DTEND:20260501T182900Z
SUMMARY:The Devil Wears Prada 2 (2026) at Everyman Hampstead
DESCRIPTION:The Devil Wears Prada 2 (2026)\nat Everyman Hampstead\nBook: https://purchase.everymancinema.com/launch/ticketing/46c8b16d-e00e-5d45-bbca-73df4b9df99c\nvia Pictures (pictures.london)
LOCATION:Everyman Hampstead\, 5 Holly Bush Vale\, Hampstead\, NW3 1QE
URL:https://purchase.everymancinema.com/launch/ticketing/46c8b16d-e00e-5d45-bbca-73df4b9df99c
STATUS:CONFIRMED
END:VEVENT
END:VCALENDAR