BEGIN:VCALENDAR
VERSION:2.0
PRODID:-//Pictures London//Cinema Listings//EN
CALSCALE:GREGORIAN
METHOD:PUBLISH
X-WR-CALNAME:Pictures London Cinema
BEGIN:VEVENT
UID:08cae487-02d5-4e43-9904-6cdbd28731ad@pictures.london
DTSTART:20260421T164000Z
DTEND:20260421T182500Z
SUMMARY:The Drama (2026) at Riverside Studios
DESCRIPTION:The Drama (2026)\nat Riverside Studios\nBook: https://riversidestudios.co.uk/seats/171001/\nvia Pictures (pictures.london)
LOCATION:Riverside Studios\, 101 Queen Caroline Street\, Hammersmith\, W6 9BN
URL:https://riversidestudios.co.uk/seats/171001/
STATUS:CONFIRMED
END:VEVENT
END:VCALENDAR