BEGIN:VCALENDAR
VERSION:2.0
PRODID:-//Pictures London//Cinema Listings//EN
CALSCALE:GREGORIAN
METHOD:PUBLISH
X-WR-CALNAME:Pictures London Cinema
BEGIN:VEVENT
UID:080bfe72-2b51-45c1-a941-0a980740d83c@pictures.london
DTSTART:20260421T194000Z
DTEND:20260421T213700Z
SUMMARY:The Stranger (2022) at Curzon Mayfair
DESCRIPTION:The Stranger (2022)\nat Curzon Mayfair\nBook: https://www.curzon.com/films/the-stranger/HO00006845/\nvia Pictures (pictures.london)
LOCATION:Curzon Mayfair\, 38 Curzon Street\, Mayfair\, W1J 7SH
URL:https://www.curzon.com/films/the-stranger/HO00006845/
STATUS:CONFIRMED
END:VEVENT
END:VCALENDAR