BEGIN:VCALENDAR
VERSION:2.0
PRODID:-//Pictures London//Cinema Listings//EN
CALSCALE:GREGORIAN
METHOD:PUBLISH
X-WR-CALNAME:Pictures London Cinema
BEGIN:VEVENT
UID:07654b02-bd84-4d94-831c-70daebec8db8@pictures.london
DTSTART:20260423T141500Z
DTEND:20260423T155200Z
SUMMARY:DJ Ahmet (2025) at Garden Cinema
DESCRIPTION:DJ Ahmet (2025)\nat Garden Cinema\nBook: https://bookings.thegardencinema.co.uk/TheGardenCinema.dll/TSelectItems.waSelectItemsPrompt.TcsWebMenuItem_0.TcsWebTab_0.TcsPerformance_5409923.TcsSection_3060731\nvia Pictures (pictures.london)
LOCATION:Garden Cinema\, 39-41 Parker Street\, Covent Garden\, WC2B 5PQ
URL:https://bookings.thegardencinema.co.uk/TheGardenCinema.dll/TSelectItems.waSelectItemsPrompt.TcsWebMenuItem_0.TcsWebTab_0.TcsPerformance_5409923.TcsSection_3060731
STATUS:CONFIRMED
END:VEVENT
END:VCALENDAR