BEGIN:VCALENDAR
VERSION:2.0
PRODID:-//Pictures London//Cinema Listings//EN
CALSCALE:GREGORIAN
METHOD:PUBLISH
X-WR-CALNAME:Pictures London Cinema
BEGIN:VEVENT
UID:075078de-8db6-4795-a9d6-7776ec3aa63e@pictures.london
DTSTART:20260421T200000Z
DTEND:20260421T215400Z
SUMMARY:Rose of Nevada (2026) at Greenwich Picturehouse
DESCRIPTION:Rose of Nevada (2026)\nat Greenwich Picturehouse\nBook: https://www.picturehouses.com/movie-details/021/HO00017705/rose-of-nevada\nvia Pictures (pictures.london)
LOCATION:Greenwich Picturehouse\, 180 Greenwich High Road\, Greenwich\, SE10 9HB
URL:https://www.picturehouses.com/movie-details/021/HO00017705/rose-of-nevada
STATUS:CONFIRMED
END:VEVENT
END:VCALENDAR