BEGIN:VCALENDAR
VERSION:2.0
PRODID:-//Pictures London//Cinema Listings//EN
CALSCALE:GREGORIAN
METHOD:PUBLISH
X-WR-CALNAME:Pictures London Cinema
BEGIN:VEVENT
UID:07485157-fbe0-4dbc-9131-f993b82ccf51@pictures.london
DTSTART:20260421T144000Z
DTEND:20260421T161700Z
SUMMARY:Bridget Jones's Diary (2001) at Curzon Aldgate
DESCRIPTION:Bridget Jones's Diary (2001)\nat Curzon Aldgate\nEvent: anniversary\nBook: https://www.curzon.com/films/bridget-jones-s-diary-25th-anniversary/HO00006971/\nvia Pictures (pictures.london)
LOCATION:Curzon Aldgate\, 2 Whitechapel High Street\, Aldgate\, E1 8FA
URL:https://www.curzon.com/films/bridget-jones-s-diary-25th-anniversary/HO00006971/
STATUS:CONFIRMED
END:VEVENT
END:VCALENDAR