BEGIN:VCALENDAR
VERSION:2.0
PRODID:-//Pictures London//Cinema Listings//EN
CALSCALE:GREGORIAN
METHOD:PUBLISH
X-WR-CALNAME:Pictures London Cinema
BEGIN:VEVENT
UID:06fba803-7579-4285-856b-2e40daff874a@pictures.london
DTSTART:20260421T172000Z
DTEND:20260421T185900Z
SUMMARY:Glenrothan (2026) at Ealing Picturehouse
DESCRIPTION:Glenrothan (2026)\nat Ealing Picturehouse\nBook: https://www.picturehouses.com/movie-details/031/HO00017767/glenrothan\nvia Pictures (pictures.london)
LOCATION:Ealing Picturehouse\, The Ealing Cinema\, Ealing Green\, Ealing\, W5 2PA
URL:https://www.picturehouses.com/movie-details/031/HO00017767/glenrothan
STATUS:CONFIRMED
END:VEVENT
END:VCALENDAR