BEGIN:VCALENDAR
VERSION:2.0
PRODID:-//Pictures London//Cinema Listings//EN
CALSCALE:GREGORIAN
METHOD:PUBLISH
X-WR-CALNAME:Pictures London Cinema
BEGIN:VEVENT
UID:06606812-9d4a-40fc-a95b-73a57512b258@pictures.london
DTSTART:20260421T200000Z
DTEND:20260421T220400Z
SUMMARY:Akira (1988) at Curzon Aldgate
DESCRIPTION:Akira (1988)\nat Curzon Aldgate\nBook: https://www.curzon.com/films/akira-2026-re-release-subbed/HO00006970/\nvia Pictures (pictures.london)
LOCATION:Curzon Aldgate\, 2 Whitechapel High Street\, Aldgate\, E1 8FA
URL:https://www.curzon.com/films/akira-2026-re-release-subbed/HO00006970/
STATUS:CONFIRMED
END:VEVENT
END:VCALENDAR