BEGIN:VCALENDAR
VERSION:2.0
PRODID:-//Pictures London//Cinema Listings//EN
CALSCALE:GREGORIAN
METHOD:PUBLISH
X-WR-CALNAME:Pictures London Cinema
BEGIN:VEVENT
UID:0628e7ac-5d06-4e56-b8a8-f2649ae2d27b@pictures.london
DTSTART:20260424T164500Z
DTEND:20260424T171900Z
SUMMARY:Easter Parade: On the Avenue (2005) at Crouch End Picturehouse
DESCRIPTION:Easter Parade: On the Avenue (2005)\nat Crouch End Picturehouse\nBook: https://www.picturehouses.com/movie-details/024/HO00012740/easter-parade\nvia Pictures (pictures.london)
LOCATION:Crouch End Picturehouse\, 165 Tottenham Lane\, Crouch End\, N8 8HP
URL:https://www.picturehouses.com/movie-details/024/HO00012740/easter-parade
STATUS:CONFIRMED
END:VEVENT
END:VCALENDAR