BEGIN:VCALENDAR
VERSION:2.0
PRODID:-//Pictures London//Cinema Listings//EN
CALSCALE:GREGORIAN
METHOD:PUBLISH
X-WR-CALNAME:Pictures London Cinema
BEGIN:VEVENT
UID:0612f76a-b858-431c-a9dc-9dcf99449638@pictures.london
DTSTART:20260429T134500Z
DTEND:20260429T164000Z
SUMMARY:The Godfather (1972) at Prince Charles Cinema
DESCRIPTION:The Godfather (1972)\nat Prince Charles Cinema\nFormat: 35MM\nBook: https://princecharlescinema.com/prince-charles-cinema/booknow/31625643\nvia Pictures (pictures.london)
LOCATION:Prince Charles Cinema\, 7 Leicester Place\, Leicester Square\, WC2H 7BY
URL:https://princecharlescinema.com/prince-charles-cinema/booknow/31625643
STATUS:CONFIRMED
END:VEVENT
END:VCALENDAR