BEGIN:VCALENDAR
VERSION:2.0
PRODID:-//Pictures London//Cinema Listings//EN
CALSCALE:GREGORIAN
METHOD:PUBLISH
X-WR-CALNAME:Pictures London Cinema
BEGIN:VEVENT
UID:05db5a07-8032-4fef-9650-d666873d55d7@pictures.london
DTSTART:20260421T114500Z
DTEND:20260421T121000Z
SUMMARY:Tabby McTat (2024) at The Ritzy
DESCRIPTION:Tabby McTat (2024)\nat The Ritzy\nBook: https://www.picturehouses.com/movie-details/004/HO00015460/tabby-mctat\nvia Pictures (pictures.london)
LOCATION:The Ritzy\, Brixton Oval\, Coldharbour Lane\, Brixton\, SW2 1JG
URL:https://www.picturehouses.com/movie-details/004/HO00015460/tabby-mctat
STATUS:CONFIRMED
END:VEVENT
END:VCALENDAR