BEGIN:VCALENDAR
VERSION:2.0
PRODID:-//Pictures London//Cinema Listings//EN
CALSCALE:GREGORIAN
METHOD:PUBLISH
X-WR-CALNAME:Pictures London Cinema
BEGIN:VEVENT
UID:0579f262-a68a-410c-b8d9-e414a432cc7f@pictures.london
DTSTART:20260421T160000Z
DTEND:20260421T175000Z
SUMMARY:The Magic Faraway Tree (2026) at Curzon Kingston
DESCRIPTION:The Magic Faraway Tree (2026)\nat Curzon Kingston\nBook: https://www.curzon.com/films/the-magic-faraway-tree/HO00006854/\nvia Pictures (pictures.london)
LOCATION:Curzon Kingston\, Richmond Road\, Kingston\, KT2 5BW
URL:https://www.curzon.com/films/the-magic-faraway-tree/HO00006854/
STATUS:CONFIRMED
END:VEVENT
END:VCALENDAR