BEGIN:VCALENDAR
VERSION:2.0
PRODID:-//Pictures London//Cinema Listings//EN
CALSCALE:GREGORIAN
METHOD:PUBLISH
X-WR-CALNAME:Pictures London Cinema
BEGIN:VEVENT
UID:054142f0-ee60-4782-b646-bad6b9d87dd1@pictures.london
DTSTART:20260421T180000Z
DTEND:20260421T194500Z
SUMMARY:The Drama (2026) at The Ritzy
DESCRIPTION:The Drama (2026)\nat The Ritzy\nBook: https://www.picturehouses.com/movie-details/004/HO00017737/the-drama\nvia Pictures (pictures.london)
LOCATION:The Ritzy\, Brixton Oval\, Coldharbour Lane\, Brixton\, SW2 1JG
URL:https://www.picturehouses.com/movie-details/004/HO00017737/the-drama
STATUS:CONFIRMED
END:VEVENT
END:VCALENDAR