BEGIN:VCALENDAR
VERSION:2.0
PRODID:-//Pictures London//Cinema Listings//EN
CALSCALE:GREGORIAN
METHOD:PUBLISH
X-WR-CALNAME:Pictures London Cinema
BEGIN:VEVENT
UID:04df890c-e6a5-440f-872a-132787399167@pictures.london
DTSTART:20260421T193000Z
DTEND:20260421T220700Z
SUMMARY:Project Hail Mary (2026) at Everyman Hampstead
DESCRIPTION:Project Hail Mary (2026)\nat Everyman Hampstead\nBook: https://purchase.everymancinema.com/launch/ticketing/17101da0-3c11-5ffc-a404-5742b53d04f0\nvia Pictures (pictures.london)
LOCATION:Everyman Hampstead\, 5 Holly Bush Vale\, Hampstead\, NW3 1QE
URL:https://purchase.everymancinema.com/launch/ticketing/17101da0-3c11-5ffc-a404-5742b53d04f0
STATUS:CONFIRMED
END:VEVENT
END:VCALENDAR