BEGIN:VCALENDAR
VERSION:2.0
PRODID:-//Pictures London//Cinema Listings//EN
CALSCALE:GREGORIAN
METHOD:PUBLISH
X-WR-CALNAME:Pictures London Cinema
BEGIN:VEVENT
UID:04ad69ed-ac78-498a-bbf8-b4ab030c0139@pictures.london
DTSTART:20260422T173000Z
DTEND:20260422T192000Z
SUMMARY:The Magic Faraway Tree (2026) at Peckhamplex
DESCRIPTION:The Magic Faraway Tree (2026)\nat Peckhamplex\nBook: https://ticketing.eu.veezi.com/purchase/79583?siteToken=zkD3Bh7H%2fkuZI9VTgCj%2bgg%3d%3d\nvia Pictures (pictures.london)
LOCATION:Peckhamplex\, 95A Rye Lane\, Peckham\, SE15 4ST
URL:https://ticketing.eu.veezi.com/purchase/79583?siteToken=zkD3Bh7H%2fkuZI9VTgCj%2bgg%3d%3d
STATUS:CONFIRMED
END:VEVENT
END:VCALENDAR