BEGIN:VCALENDAR
VERSION:2.0
PRODID:-//Pictures London//Cinema Listings//EN
CALSCALE:GREGORIAN
METHOD:PUBLISH
X-WR-CALNAME:Pictures London Cinema
BEGIN:VEVENT
UID:047df0e4-3cd2-4007-ba54-d243c52bf5a2@pictures.london
DTSTART:20260422T161000Z
DTEND:20260422T180000Z
SUMMARY:The Magic Faraway Tree (2026) at Crouch End Picturehouse
DESCRIPTION:The Magic Faraway Tree (2026)\nat Crouch End Picturehouse\nBook: https://www.picturehouses.com/movie-details/024/HO00017688/the-magic-faraway-tree\nvia Pictures (pictures.london)
LOCATION:Crouch End Picturehouse\, 165 Tottenham Lane\, Crouch End\, N8 8HP
URL:https://www.picturehouses.com/movie-details/024/HO00017688/the-magic-faraway-tree
STATUS:CONFIRMED
END:VEVENT
END:VCALENDAR