BEGIN:VCALENDAR
VERSION:2.0
PRODID:-//Pictures London//Cinema Listings//EN
CALSCALE:GREGORIAN
METHOD:PUBLISH
X-WR-CALNAME:Pictures London Cinema
BEGIN:VEVENT
UID:045df54c-890b-4250-8e86-87da735d6bff@pictures.london
DTSTART:20260421T180000Z
DTEND:20260421T195700Z
SUMMARY:The Stranger (2022) at Hackney Picturehouse
DESCRIPTION:The Stranger (2022)\nat Hackney Picturehouse\nBook: https://www.picturehouses.com/movie-details/010/HO00017653/the-stranger\nvia Pictures (pictures.london)
LOCATION:Hackney Picturehouse\, 270 Mare Street\, Hackney\, E8 1EJ
URL:https://www.picturehouses.com/movie-details/010/HO00017653/the-stranger
STATUS:CONFIRMED
END:VEVENT
END:VCALENDAR