BEGIN:VCALENDAR
VERSION:2.0
PRODID:-//Pictures London//Cinema Listings//EN
CALSCALE:GREGORIAN
METHOD:PUBLISH
X-WR-CALNAME:Pictures London Cinema
BEGIN:VEVENT
UID:04034a9d-4e03-4e48-9772-ec226b3b03c4@pictures.london
DTSTART:20260421T183000Z
DTEND:20260421T201500Z
SUMMARY:The Drama (2026) at Curzon Victoria
DESCRIPTION:The Drama (2026)\nat Curzon Victoria\nBook: https://www.curzon.com/films/the-drama/HO00006892/\nvia Pictures (pictures.london)
LOCATION:Curzon Victoria\, 58 Victoria Street\, Victoria\, SW1E 5JA
URL:https://www.curzon.com/films/the-drama/HO00006892/
STATUS:CONFIRMED
END:VEVENT
END:VCALENDAR