BEGIN:VCALENDAR
VERSION:2.0
PRODID:-//Pictures London//Cinema Listings//EN
CALSCALE:GREGORIAN
METHOD:PUBLISH
X-WR-CALNAME:Pictures London Cinema
BEGIN:VEVENT
UID:0351b079-5b71-4841-a899-7fd5e7c1f138@pictures.london
DTSTART:20260421T191500Z
DTEND:20260421T211900Z
SUMMARY:Akira (1988) at Prince Charles Cinema
DESCRIPTION:Akira (1988)\nat Prince Charles Cinema\nBook: https://princecharlescinema.com/prince-charles-cinema/booknow/31625826\nvia Pictures (pictures.london)
LOCATION:Prince Charles Cinema\, 7 Leicester Place\, Leicester Square\, WC2H 7BY
URL:https://princecharlescinema.com/prince-charles-cinema/booknow/31625826
STATUS:CONFIRMED
END:VEVENT
END:VCALENDAR