BEGIN:VCALENDAR
VERSION:2.0
PRODID:-//Pictures London//Cinema Listings//EN
CALSCALE:GREGORIAN
METHOD:PUBLISH
X-WR-CALNAME:Pictures London Cinema
BEGIN:VEVENT
UID:03453440-9c8a-48db-b0d8-74c970145937@pictures.london
DTSTART:20260421T163000Z
DTEND:20260421T180800Z
SUMMARY:The Super Mario Galaxy Movie (2026) at West Norwood Picturehouse
DESCRIPTION:The Super Mario Galaxy Movie (2026)\nat West Norwood Picturehouse\nBook: https://www.picturehouses.com/movie-details/023/HO00017733/the-super-mario-galaxy-movie\nvia Pictures (pictures.london)
LOCATION:West Norwood Picturehouse\, The Old Library\, 14-16 Knight's Hill\, West Norwood\, SE27 9NX
URL:https://www.picturehouses.com/movie-details/023/HO00017733/the-super-mario-galaxy-movie
STATUS:CONFIRMED
END:VEVENT
END:VCALENDAR