BEGIN:VCALENDAR
VERSION:2.0
PRODID:-//Pictures London//Cinema Listings//EN
CALSCALE:GREGORIAN
METHOD:PUBLISH
X-WR-CALNAME:Pictures London Cinema
BEGIN:VEVENT
UID:033df9e1-9213-4a53-9b3b-39940e9c238b@pictures.london
DTSTART:20260423T163000Z
DTEND:20260423T183400Z
SUMMARY:The Cook\, the Thief\, His Wife & Her Lover (1989) at Prince Charles Cinema
DESCRIPTION:The Cook\, the Thief\, His Wife & Her Lover (1989)\nat Prince Charles Cinema\nBook: https://princecharlescinema.com/prince-charles-cinema/booknow/31625580\nvia Pictures (pictures.london)
LOCATION:Prince Charles Cinema\, 7 Leicester Place\, Leicester Square\, WC2H 7BY
URL:https://princecharlescinema.com/prince-charles-cinema/booknow/31625580
STATUS:CONFIRMED
END:VEVENT
END:VCALENDAR