BEGIN:VCALENDAR
VERSION:2.0
PRODID:-//Pictures London//Cinema Listings//EN
CALSCALE:GREGORIAN
METHOD:PUBLISH
X-WR-CALNAME:Pictures London Cinema
BEGIN:VEVENT
UID:033c91bc-6f14-4def-a845-e5d9b3f54786@pictures.london
DTSTART:20260421T194000Z
DTEND:20260421T213700Z
SUMMARY:The Stranger (2022) at Curzon Bloomsbury
DESCRIPTION:The Stranger (2022)\nat Curzon Bloomsbury\nBook: https://www.curzon.com/films/the-stranger/HO00006845/\nvia Pictures (pictures.london)
LOCATION:Curzon Bloomsbury\, The Brunswick Centre\, Bloomsbury\, WC1H 8AG
URL:https://www.curzon.com/films/the-stranger/HO00006845/
STATUS:CONFIRMED
END:VEVENT
END:VCALENDAR