BEGIN:VCALENDAR
VERSION:2.0
PRODID:-//Pictures London//Cinema Listings//EN
CALSCALE:GREGORIAN
METHOD:PUBLISH
X-WR-CALNAME:Pictures London Cinema
BEGIN:VEVENT
UID:030c2449-3ea8-4eda-9b3c-b72100ee0796@pictures.london
DTSTART:20260422T130000Z
DTEND:20260422T150700Z
SUMMARY:Michael (2026) at Everyman Muswell Hill
DESCRIPTION:Michael (2026)\nat Everyman Muswell Hill\nBook: https://purchase.everymancinema.com/launch/ticketing/36988bc9-495d-5cd3-a082-69e97625cad8\nvia Pictures (pictures.london)
LOCATION:Everyman Muswell Hill\, Fortis Green Road\, Muswell Hill\, N10 3TD
URL:https://purchase.everymancinema.com/launch/ticketing/36988bc9-495d-5cd3-a082-69e97625cad8
STATUS:CONFIRMED
END:VEVENT
END:VCALENDAR