BEGIN:VCALENDAR
VERSION:2.0
PRODID:-//Pictures London//Cinema Listings//EN
CALSCALE:GREGORIAN
METHOD:PUBLISH
X-WR-CALNAME:Pictures London Cinema
BEGIN:VEVENT
UID:02a1f008-a9b9-4c0c-8c01-f203402f9c8e@pictures.london
DTSTART:20260423T191500Z
DTEND:20260423T210800Z
SUMMARY:Lianna (1983) at Prince Charles Cinema
DESCRIPTION:Lianna (1983)\nat Prince Charles Cinema\nFormat: 35MM\nBook: https://princecharlescinema.com/prince-charles-cinema/booknow/31625676\nvia Pictures (pictures.london)
LOCATION:Prince Charles Cinema\, 7 Leicester Place\, Leicester Square\, WC2H 7BY
URL:https://princecharlescinema.com/prince-charles-cinema/booknow/31625676
STATUS:CONFIRMED
END:VEVENT
END:VCALENDAR