BEGIN:VCALENDAR
VERSION:2.0
PRODID:-//Pictures London//Cinema Listings//EN
CALSCALE:GREGORIAN
METHOD:PUBLISH
X-WR-CALNAME:Pictures London Cinema
BEGIN:VEVENT
UID:028265e3-65cf-493d-acda-f75984c399a3@pictures.london
DTSTART:20260422T193000Z
DTEND:20260422T211500Z
SUMMARY:The Colour of Ink (2022) at Barbican Cinema
DESCRIPTION:The Colour of Ink (2022)\nat Barbican Cinema\nBook: https://tickets.barbican.org.uk/choose-seats/3401603\nvia Pictures (pictures.london)
LOCATION:Barbican Cinema\, Silk Street\, Barbican\, EC2Y 8DS
URL:https://tickets.barbican.org.uk/choose-seats/3401603
STATUS:CONFIRMED
END:VEVENT
END:VCALENDAR