BEGIN:VCALENDAR
VERSION:2.0
PRODID:-//Pictures London//Cinema Listings//EN
CALSCALE:GREGORIAN
METHOD:PUBLISH
X-WR-CALNAME:Pictures London Cinema
BEGIN:VEVENT
UID:01ef3631-c9b0-47a4-be4b-b758ad2a7363@pictures.london
DTSTART:20260421T192500Z
DTEND:20260421T212200Z
SUMMARY:The Stranger (2022) at Riverside Studios
DESCRIPTION:The Stranger (2022)\nat Riverside Studios\nBook: https://riversidestudios.co.uk/seats/162204/\nvia Pictures (pictures.london)
LOCATION:Riverside Studios\, 101 Queen Caroline Street\, Hammersmith\, W6 9BN
URL:https://riversidestudios.co.uk/seats/162204/
STATUS:CONFIRMED
END:VEVENT
END:VCALENDAR