BEGIN:VCALENDAR
VERSION:2.0
PRODID:-//Pictures London//Cinema Listings//EN
CALSCALE:GREGORIAN
METHOD:PUBLISH
X-WR-CALNAME:Pictures London Cinema
BEGIN:VEVENT
UID:01bdc42b-5ff0-4693-b8f9-2feba7de6e4f@pictures.london
DTSTART:20260421T181000Z
DTEND:20260421T194600Z
SUMMARY:Rebuilding (2025) at Hackney Picturehouse
DESCRIPTION:Rebuilding (2025)\nat Hackney Picturehouse\nBook: https://www.picturehouses.com/movie-details/010/HO00017446/rebuilding\nvia Pictures (pictures.london)
LOCATION:Hackney Picturehouse\, 270 Mare Street\, Hackney\, E8 1EJ
URL:https://www.picturehouses.com/movie-details/010/HO00017446/rebuilding
STATUS:CONFIRMED
END:VEVENT
END:VCALENDAR