BEGIN:VCALENDAR
VERSION:2.0
PRODID:-//Pictures London//Cinema Listings//EN
CALSCALE:GREGORIAN
METHOD:PUBLISH
X-WR-CALNAME:Pictures London Cinema
BEGIN:VEVENT
UID:01452e9e-0c2f-4030-a56b-a0c32e1ad8ec@pictures.london
DTSTART:20260501T160000Z
DTEND:20260501T175900Z
SUMMARY:The Devil Wears Prada 2 (2026) at Ealing Picturehouse
DESCRIPTION:The Devil Wears Prada 2 (2026)\nat Ealing Picturehouse\nBook: https://www.picturehouses.com/movie-details/031/HO00017738/the-devil-wears-prada-2\nvia Pictures (pictures.london)
LOCATION:Ealing Picturehouse\, The Ealing Cinema\, Ealing Green\, Ealing\, W5 2PA
URL:https://www.picturehouses.com/movie-details/031/HO00017738/the-devil-wears-prada-2
STATUS:CONFIRMED
END:VEVENT
END:VCALENDAR