BEGIN:VCALENDAR
VERSION:2.0
PRODID:-//Pictures London//Cinema Listings//EN
CALSCALE:GREGORIAN
METHOD:PUBLISH
X-WR-CALNAME:Pictures London Cinema
BEGIN:VEVENT
UID:010ae33b-4940-4167-be3b-9ed348f147ae@pictures.london
DTSTART:20260421T193000Z
DTEND:20260421T220700Z
SUMMARY:Project Hail Mary (2026) at Everyman Chelsea
DESCRIPTION:Project Hail Mary (2026)\nat Everyman Chelsea\nBook: https://purchase.everymancinema.com/launch/ticketing/f4056abf-3abd-5729-b8c6-d1ddd77190a5\nvia Pictures (pictures.london)
LOCATION:Everyman Chelsea\, 279 King's Road\, Chelsea\, SW3 3TD
URL:https://purchase.everymancinema.com/launch/ticketing/f4056abf-3abd-5729-b8c6-d1ddd77190a5
STATUS:CONFIRMED
END:VEVENT
END:VCALENDAR