BEGIN:VCALENDAR
VERSION:2.0
PRODID:-//Pictures London//Cinema Listings//EN
CALSCALE:GREGORIAN
METHOD:PUBLISH
X-WR-CALNAME:Pictures London Cinema
BEGIN:VEVENT
UID:0101489a-56cc-45af-9acb-bbf0850e20b8@pictures.london
DTSTART:20260421T182500Z
DTEND:20260421T201000Z
SUMMARY:The Drama (2026) at BFI Southbank
DESCRIPTION:The Drama (2026)\nat BFI Southbank\nFormat: DIGITAL 4K\nBook: https://whatson.bfi.org.uk/Online/default.asp?doWork::WScontent::search=1&BOparam::WScontent::search::article_search_id=25E7EA2E-291F-44F9-8EBC-E560154FDAEB&BOset::WScontent::SearchCriteria::search_criteria=The%20Drama\nvia Pictures (pictures.london)
LOCATION:BFI Southbank\, Belvedere Road\, South Bank\, SE1 8XT
URL:https://whatson.bfi.org.uk/Online/default.asp?doWork::WScontent::search=1&BOparam::WScontent::search::article_search_id=25E7EA2E-291F-44F9-8EBC-E560154FDAEB&BOset::WScontent::SearchCriteria::search_criteria=The%20Drama
STATUS:CONFIRMED
END:VEVENT
END:VCALENDAR