BEGIN:VCALENDAR
VERSION:2.0
PRODID:-//Pictures London//Cinema Listings//EN
CALSCALE:GREGORIAN
METHOD:PUBLISH
X-WR-CALNAME:Pictures London Cinema
BEGIN:VEVENT
UID:00f13e78-0850-4392-953f-cb49e7ba3351@pictures.london
DTSTART:20260423T182000Z
DTEND:20260423T194000Z
SUMMARY:Cotton Queen (1937) at BFI Southbank
DESCRIPTION:Cotton Queen (1937)\nat BFI Southbank\nEvent: preview\nBook: https://whatson.bfi.org.uk/Online/default.asp?doWork::WScontent::loadArticle=Load&BOparam::WScontent::loadArticle::article_id=585134DF-C105-486E-BB2C-6594C94990A7&BOparam::WScontent::loadArticle::context_id=6E7C530E-DF01-4797-A2B6-8172F26539F3\nvia Pictures (pictures.london)
LOCATION:BFI Southbank\, Belvedere Road\, South Bank\, SE1 8XT
URL:https://whatson.bfi.org.uk/Online/default.asp?doWork::WScontent::loadArticle=Load&BOparam::WScontent::loadArticle::article_id=585134DF-C105-486E-BB2C-6594C94990A7&BOparam::WScontent::loadArticle::context_id=6E7C530E-DF01-4797-A2B6-8172F26539F3
STATUS:CONFIRMED
END:VEVENT
END:VCALENDAR