BEGIN:VCALENDAR
VERSION:2.0
PRODID:-//Pictures London//Cinema Listings//EN
CALSCALE:GREGORIAN
METHOD:PUBLISH
X-WR-CALNAME:Pictures London Cinema
BEGIN:VEVENT
UID:00daa30c-3ed1-490b-91d5-b06b80e304aa@pictures.london
DTSTART:20260421T164500Z
DTEND:20260421T183500Z
SUMMARY:The Magic Faraway Tree (2026) at Everyman Hampstead
DESCRIPTION:The Magic Faraway Tree (2026)\nat Everyman Hampstead\nBook: https://purchase.everymancinema.com/launch/ticketing/65a736b1-aacd-5e6c-b60e-cba3f02c3915\nvia Pictures (pictures.london)
LOCATION:Everyman Hampstead\, 5 Holly Bush Vale\, Hampstead\, NW3 1QE
URL:https://purchase.everymancinema.com/launch/ticketing/65a736b1-aacd-5e6c-b60e-cba3f02c3915
STATUS:CONFIRMED
END:VEVENT
END:VCALENDAR