BEGIN:VCALENDAR
VERSION:2.0
PRODID:-//Pictures London//Cinema Listings//EN
CALSCALE:GREGORIAN
METHOD:PUBLISH
X-WR-CALNAME:Pictures London Cinema
BEGIN:VEVENT
UID:00bb7bd0-add1-4d5b-b64e-8dec9cb44f27@pictures.london
DTSTART:20260421T114500Z
DTEND:20260421T134900Z
SUMMARY:Akira (1988) at Everyman Broadgate
DESCRIPTION:Akira (1988)\nat Everyman Broadgate\nFormat: DCP_4K\nBook: https://purchase.everymancinema.com/launch/ticketing/7bf23471-0ab6-5c9e-8761-561e885205ee\nvia Pictures (pictures.london)
LOCATION:Everyman Broadgate\, Broadgate Circle\, Liverpool Street\, EC2M 2QS
URL:https://purchase.everymancinema.com/launch/ticketing/7bf23471-0ab6-5c9e-8761-561e885205ee
STATUS:CONFIRMED
END:VEVENT
END:VCALENDAR