BEGIN:VCALENDAR
VERSION:2.0
PRODID:-//Pictures London//Cinema Listings//EN
CALSCALE:GREGORIAN
METHOD:PUBLISH
X-WR-CALNAME:Pictures London Cinema
BEGIN:VEVENT
UID:004d4897-b4b9-45c5-92b3-0b06447c6311@pictures.london
DTSTART:20260501T151500Z
DTEND:20260501T171400Z
SUMMARY:The Devil Wears Prada 2 (2026) at Rich Mix
DESCRIPTION:The Devil Wears Prada 2 (2026)\nat Rich Mix\nBook: https://richmix.org.uk/whats-on/cinema/the-devil-wears-prada-2/\nvia Pictures (pictures.london)
LOCATION:Rich Mix\, 35-47 Bethnal Green Road\, Shoreditch\, E1 6LA
URL:https://richmix.org.uk/whats-on/cinema/the-devil-wears-prada-2/
STATUS:CONFIRMED
END:VEVENT
END:VCALENDAR