BEGIN:VCALENDAR
VERSION:2.0
PRODID:-//Pictures London//Cinema Listings//EN
CALSCALE:GREGORIAN
METHOD:PUBLISH
X-WR-CALNAME:Pictures London Cinema
BEGIN:VEVENT
UID:0012b67d-8481-40ef-adb0-369b7b04bea8@pictures.london
DTSTART:20260421T193000Z
DTEND:20260421T220700Z
SUMMARY:Project Hail Mary (2026) at Everyman Crystal Palace
DESCRIPTION:Project Hail Mary (2026)\nat Everyman Crystal Palace\nBook: https://purchase.everymancinema.com/launch/ticketing/ceef1771-51aa-5f0d-a6ee-305dc21dc455\nvia Pictures (pictures.london)
LOCATION:Everyman Crystal Palace\, 25 Church Road\, Crystal Palace\, SE19 2AE
URL:https://purchase.everymancinema.com/launch/ticketing/ceef1771-51aa-5f0d-a6ee-305dc21dc455
STATUS:CONFIRMED
END:VEVENT
END:VCALENDAR